BEGIN:VCALENDAR
VERSION:2.0
PRODID:icalendar-ruby
CALSCALE:GREGORIAN
METHOD:PUBLISH
BEGIN:VEVENT
DTSTAMP:20260420T083035Z
UID:911-579374@faithlutherancedarburg.com
DTSTART:20250209T170000Z
DTEND:20250209T180000Z
CLASS:PUBLIC
CREATED:20250113T202659
DESCRIPTION:
LAST-MODIFIED:20250113T202659
LOCATION:Faith Lutheran Church Library
SUMMARY:Budget Forum
URL;VALUE=URI:https://www.faithlutherancedarburg.com/events/budget-forum/20
 25-02-09
END:VEVENT
END:VCALENDAR
